BEGIN:VCALENDAR
VERSION:2.0
PRODID:-//Cámara de Comercio de Burgos - ECPv6.15.20//NONSGML v1.0//EN
CALSCALE:GREGORIAN
METHOD:PUBLISH
X-ORIGINAL-URL:https://www.camaraburgos.com
X-WR-CALDESC:Eventos para Cámara de Comercio de Burgos
REFRESH-INTERVAL;VALUE=DURATION:PT1H
X-Robots-Tag:noindex
X-PUBLISHED-TTL:PT1H
BEGIN:VTIMEZONE
TZID:Europe/Paris
BEGIN:DAYLIGHT
TZOFFSETFROM:+0100
TZOFFSETTO:+0200
TZNAME:CEST
DTSTART:20250330T010000
END:DAYLIGHT
BEGIN:STANDARD
TZOFFSETFROM:+0200
TZOFFSETTO:+0100
TZNAME:CET
DTSTART:20251026T010000
END:STANDARD
BEGIN:DAYLIGHT
TZOFFSETFROM:+0100
TZOFFSETTO:+0200
TZNAME:CEST
DTSTART:20260329T010000
END:DAYLIGHT
BEGIN:STANDARD
TZOFFSETFROM:+0200
TZOFFSETTO:+0100
TZNAME:CET
DTSTART:20261025T010000
END:STANDARD
BEGIN:DAYLIGHT
TZOFFSETFROM:+0100
TZOFFSETTO:+0200
TZNAME:CEST
DTSTART:20270328T010000
END:DAYLIGHT
BEGIN:STANDARD
TZOFFSETFROM:+0200
TZOFFSETTO:+0100
TZNAME:CET
DTSTART:20271031T010000
END:STANDARD
END:VTIMEZONE
BEGIN:VEVENT
DTSTART;TZID=Europe/Paris:20260505T160000
DTEND;TZID=Europe/Paris:20260505T190000
DTSTAMP:20260424T175020
CREATED:20260324T133151Z
LAST-MODIFIED:20260420T070359Z
UID:37563-1777996800-1778007600@www.camaraburgos.com
SUMMARY:​ VERIFACTU: cómo cumplir la ley\, evitar sanciones y facturar
DESCRIPTION:
URL:https://www.camaraburgos.com/event/verifactu-como-cumplir-la-ley-evitar-sanciones-y-facturar/
CATEGORIES:consolidacion_icecyl2026
ATTACH;FMTTYPE=image/jpeg:https://www.camaraburgos.com/wp-content/uploads/2026/01/Consolidacion-01-scaled.jpg
END:VEVENT
BEGIN:VEVENT
DTSTART;TZID=Europe/Paris:20260505T163000
DTEND;TZID=Europe/Paris:20260505T183000
DTSTAMP:20260424T175020
CREATED:20260420T163939Z
LAST-MODIFIED:20260420T163939Z
UID:37709-1777998600-1778005800@www.camaraburgos.com
SUMMARY:Excel para gestionar tu PYME “Del desorden al informe”
DESCRIPTION:
URL:https://www.camaraburgos.com/event/excel-para-gestionar-tu-pyme-del-desorden-al-informe/
CATEGORIES:innova_icecyl2026
ATTACH;FMTTYPE=image/jpeg:https://www.camaraburgos.com/wp-content/uploads/2026/01/Innova-01_nuevo-scaled.jpg
END:VEVENT
BEGIN:VEVENT
DTSTART;TZID=Europe/Paris:20260506T100000
DTEND;TZID=Europe/Paris:20260506T123000
DTSTAMP:20260424T175020
CREATED:20260421T090436Z
LAST-MODIFIED:20260421T090436Z
UID:37725-1778061600-1778070600@www.camaraburgos.com
SUMMARY:Encuentro 45+ "El poder de reinventarse"
DESCRIPTION:
URL:https://www.camaraburgos.com/event/encuentro-45-el-poder-de-reinventarse/
CATEGORIES:Mas45
ATTACH;FMTTYPE=image/png:https://www.camaraburgos.com/wp-content/uploads/2026/04/Captura-de-pantalla-2026-04-21-104714.png
END:VEVENT
BEGIN:VEVENT
DTSTART;TZID=Europe/Paris:20260506T160000
DTEND;TZID=Europe/Paris:20260506T190000
DTSTAMP:20260424T175020
CREATED:20260324T132407Z
LAST-MODIFIED:20260414T075725Z
UID:37561-1778083200-1778094000@www.camaraburgos.com
SUMMARY:Lo que debes saber para cumplir con el nuevo Reglamento de IA en tu empresa
DESCRIPTION:
URL:https://www.camaraburgos.com/event/lo-que-debes-saber-para-cumplir-con-el-nuevo-reglamento-de-ia-en-tu-empresa/
CATEGORIES:consolidacion_icecyl2026
ATTACH;FMTTYPE=image/jpeg:https://www.camaraburgos.com/wp-content/uploads/2026/01/Consolidacion-01-scaled.jpg
END:VEVENT
BEGIN:VEVENT
DTSTART;TZID=Europe/Paris:20260511T090000
DTEND;TZID=Europe/Paris:20260511T140000
DTSTAMP:20260424T175020
CREATED:20260313T094302Z
LAST-MODIFIED:20260409T105052Z
UID:37468-1778490000-1778508000@www.camaraburgos.com
SUMMARY:Formación práctica: Habilidades profesionales y competencias digitales
DESCRIPTION:
URL:https://www.camaraburgos.com/event/formacion-practica-habilidades-profesionales-y-competencias-digitales-5/
CATEGORIES:Mas45
ATTACH;FMTTYPE=image/jpeg:https://www.camaraburgos.com/wp-content/uploads/2026/03/Programa-Talento-45_-Formacion-del-15-al-30-de-abril-de-2026.jpg
END:VEVENT
BEGIN:VEVENT
DTSTART;TZID=Europe/Paris:20260511T160000
DTEND;TZID=Europe/Paris:20260511T190000
DTSTAMP:20260424T175020
CREATED:20260415T150652Z
LAST-MODIFIED:20260415T150652Z
UID:37696-1778515200-1778526000@www.camaraburgos.com
SUMMARY:Curso de SGSA Basado en el APPCC (Análisis de Peligros y Puntos Críticos de Control) - Sector Vitivinícola
DESCRIPTION:
URL:https://www.camaraburgos.com/event/curso-de-sgsa-basado-en-el-appcc-analisis-de-peligros-y-puntos-criticos-de-control-sector-vitivinicola/
CATEGORIES:formacionEspecializada
ATTACH;FMTTYPE=image/jpeg:https://www.camaraburgos.com/wp-content/uploads/2026/04/Curso-de-SGSA-Basado-en-el-APPCC-Analisis-de-Peligros-y-Puntos-Criticos-de-Control.jpg
END:VEVENT
BEGIN:VEVENT
DTSTART;TZID=Europe/Paris:20260512T163000
DTEND;TZID=Europe/Paris:20260512T183000
DTSTAMP:20260424T175020
CREATED:20260420T164222Z
LAST-MODIFIED:20260420T164222Z
UID:37713-1778603400-1778610600@www.camaraburgos.com
SUMMARY:10 puntos a tener en cuenta tu PYME para una estrategia de marketing digital efectiva
DESCRIPTION:
URL:https://www.camaraburgos.com/event/10-puntos-a-tener-en-cuenta-tu-pyme-para-una-estrategia-de-marketing-digital-efectiva/
CATEGORIES:innova_icecyl2026
ATTACH;FMTTYPE=image/jpeg:https://www.camaraburgos.com/wp-content/uploads/2026/01/Innova-01_nuevo-scaled.jpg
END:VEVENT
BEGIN:VEVENT
DTSTART;TZID=Europe/Paris:20260514T163000
DTEND;TZID=Europe/Paris:20260514T183000
DTSTAMP:20260424T175020
CREATED:20260420T164102Z
LAST-MODIFIED:20260421T122542Z
UID:37711-1778776200-1778783400@www.camaraburgos.com
SUMMARY:Gestión del Tiempo: mide\, automatiza y sé más eficiente en tu trabajo.
DESCRIPTION:
URL:https://www.camaraburgos.com/event/gestion-del-tiempo-mide-automatiza-y-se-mas-eficiente-en-tu-trabajo/
CATEGORIES:innova_icecyl2026
ATTACH;FMTTYPE=image/jpeg:https://www.camaraburgos.com/wp-content/uploads/2026/01/Innova-01_nuevo-scaled.jpg
END:VEVENT
BEGIN:VEVENT
DTSTART;TZID=Europe/Paris:20260518T083000
DTEND;TZID=Europe/Paris:20260518T143000
DTSTAMP:20260424T175020
CREATED:20260414T121509Z
LAST-MODIFIED:20260414T121611Z
UID:37661-1779093000-1779114600@www.camaraburgos.com
SUMMARY:Curso Práctico: Operador/a de carretillas y Plataformas Elevadoras
DESCRIPTION:
URL:https://www.camaraburgos.com/event/curso-practico-operador-a-de-carretillas-y-plataformas-elevadoras-3/
CATEGORIES:Talento Joven
ATTACH;FMTTYPE=image/jpeg:https://www.camaraburgos.com/wp-content/uploads/2026/04/Talento-joven-PLATAFORMAS-Y-CARRETILLAS-mayo-junio-2026.jpg
END:VEVENT
BEGIN:VEVENT
DTSTART;TZID=Europe/Paris:20260519T163000
DTEND;TZID=Europe/Paris:20260519T183000
DTSTAMP:20260424T175020
CREATED:20260420T164701Z
LAST-MODIFIED:20260420T164701Z
UID:37715-1779208200-1779215400@www.camaraburgos.com
SUMMARY:De la Idea al Feed: Rentabilizando la IA en tu Estrategia de INSTAGRAM
DESCRIPTION:
URL:https://www.camaraburgos.com/event/de-la-idea-al-feed-rentabilizando-la-ia-en-tu-estrategia-de-instagram/
CATEGORIES:innova_icecyl2026
ATTACH;FMTTYPE=image/jpeg:https://www.camaraburgos.com/wp-content/uploads/2026/01/Innova-01_nuevo-scaled.jpg
END:VEVENT
BEGIN:VEVENT
DTSTART;TZID=Europe/Paris:20260521T163000
DTEND;TZID=Europe/Paris:20260521T183000
DTSTAMP:20260424T175020
CREATED:20260420T164910Z
LAST-MODIFIED:20260420T164910Z
UID:37717-1779381000-1779388200@www.camaraburgos.com
SUMMARY:Cómo Crear tu Propio Asistente o GPT Personalizado
DESCRIPTION:
URL:https://www.camaraburgos.com/event/como-crear-tu-propio-asistente-o-gpt-personalizado/
CATEGORIES:innova_icecyl2026
ATTACH;FMTTYPE=image/jpeg:https://www.camaraburgos.com/wp-content/uploads/2026/01/Innova-01_nuevo-scaled.jpg
END:VEVENT
BEGIN:VEVENT
DTSTART;TZID=Europe/Paris:20260526T163000
DTEND;TZID=Europe/Paris:20260526T183000
DTSTAMP:20260424T175020
CREATED:20260420T170111Z
LAST-MODIFIED:20260420T170111Z
UID:37723-1779813000-1779820200@www.camaraburgos.com
SUMMARY:TALLER PARA PYMES. EDICIÓN DE VIDEO CATCUP
DESCRIPTION:
URL:https://www.camaraburgos.com/event/taller-para-pymes-edicion-de-video-catcup/
CATEGORIES:innova_icecyl2026
ATTACH;FMTTYPE=image/jpeg:https://www.camaraburgos.com/wp-content/uploads/2026/01/Innova-01_nuevo-scaled.jpg
END:VEVENT
BEGIN:VEVENT
DTSTART;TZID=Europe/Paris:20260601T163000
DTEND;TZID=Europe/Paris:20260601T203000
DTSTAMP:20260424T175020
CREATED:20260220T112805Z
LAST-MODIFIED:20260327T124044Z
UID:37287-1780331400-1780345800@www.camaraburgos.com
SUMMARY:Manipulador de Alimentos en Materia de Higiene Alimentaria
DESCRIPTION:
URL:https://www.camaraburgos.com/event/manipulador-de-alimentos-en-materia-de-higiene-alimentaria-2/
CATEGORIES:formacionEspecializada
ATTACH;FMTTYPE=image/png:https://www.camaraburgos.com/wp-content/uploads/2026/01/manipulador_evento_web.png
END:VEVENT
BEGIN:VEVENT
DTSTART;TZID=Europe/Paris:20260602T163000
DTEND;TZID=Europe/Paris:20260602T183000
DTSTAMP:20260424T175020
CREATED:20260420T165015Z
LAST-MODIFIED:20260420T165015Z
UID:37719-1780417800-1780425000@www.camaraburgos.com
SUMMARY:Convierte clicks en clientes taller práctico de optimización web y tienda online
DESCRIPTION:
URL:https://www.camaraburgos.com/event/convierte-clicks-en-clientes-taller-practico-de-optimizacion-web-y-tienda-online/
CATEGORIES:innova_icecyl2026
ATTACH;FMTTYPE=image/jpeg:https://www.camaraburgos.com/wp-content/uploads/2026/01/Innova-01_nuevo-scaled.jpg
END:VEVENT
BEGIN:VEVENT
DTSTART;TZID=Europe/Paris:20260609T163000
DTEND;TZID=Europe/Paris:20260609T183000
DTSTAMP:20260424T175020
CREATED:20260420T165143Z
LAST-MODIFIED:20260420T165143Z
UID:37721-1781022600-1781029800@www.camaraburgos.com
SUMMARY:​ Gestión del Tiempo: mide\, automatiza y sé más eficiente en tu trabajo
DESCRIPTION:
URL:https://www.camaraburgos.com/event/gestion-del-tiempo-mide-automatiza-y-se-mas-eficiente-en-tu-trabajo-2/
CATEGORIES:innova_icecyl2026
ATTACH;FMTTYPE=image/jpeg:https://www.camaraburgos.com/wp-content/uploads/2026/01/Innova-01_nuevo-scaled.jpg
END:VEVENT
BEGIN:VEVENT
DTSTART;TZID=Europe/Paris:20260622T083000
DTEND;TZID=Europe/Paris:20260622T143000
DTSTAMP:20260424T175020
CREATED:20260407T122156Z
LAST-MODIFIED:20260407T122156Z
UID:37623-1782117000-1782138600@www.camaraburgos.com
SUMMARY:Curso gratuito: Iniciación al tatuaje
DESCRIPTION:
URL:https://www.camaraburgos.com/event/curso-gratuito-iniciacion-al-tatuaje/
CATEGORIES:Talento Joven
ATTACH;FMTTYPE=image/jpeg:https://www.camaraburgos.com/wp-content/uploads/2026/04/TALENTOJOVEN_tatuajes_-formacion_22jun-31jul.Burgos2026.jpg
END:VEVENT
END:VCALENDAR