BEGIN:VCALENDAR
VERSION:2.0
PRODID:-//Cámara de Comercio de Burgos - ECPv6.15.20//NONSGML v1.0//EN
CALSCALE:GREGORIAN
METHOD:PUBLISH
X-WR-CALNAME:Cámara de Comercio de Burgos
X-ORIGINAL-URL:https://www.camaraburgos.com
X-WR-CALDESC:Eventos para Cámara de Comercio de Burgos
REFRESH-INTERVAL;VALUE=DURATION:PT1H
X-Robots-Tag:noindex
X-PUBLISHED-TTL:PT1H
BEGIN:VTIMEZONE
TZID:Europe/Paris
BEGIN:DAYLIGHT
TZOFFSETFROM:+0100
TZOFFSETTO:+0200
TZNAME:CEST
DTSTART:20250330T010000
END:DAYLIGHT
BEGIN:STANDARD
TZOFFSETFROM:+0200
TZOFFSETTO:+0100
TZNAME:CET
DTSTART:20251026T010000
END:STANDARD
BEGIN:DAYLIGHT
TZOFFSETFROM:+0100
TZOFFSETTO:+0200
TZNAME:CEST
DTSTART:20260329T010000
END:DAYLIGHT
BEGIN:STANDARD
TZOFFSETFROM:+0200
TZOFFSETTO:+0100
TZNAME:CET
DTSTART:20261025T010000
END:STANDARD
BEGIN:DAYLIGHT
TZOFFSETFROM:+0100
TZOFFSETTO:+0200
TZNAME:CEST
DTSTART:20270328T010000
END:DAYLIGHT
BEGIN:STANDARD
TZOFFSETFROM:+0200
TZOFFSETTO:+0100
TZNAME:CET
DTSTART:20271031T010000
END:STANDARD
END:VTIMEZONE
BEGIN:VEVENT
DTSTART;TZID=Europe/Paris:20260414T093000
DTEND;TZID=Europe/Paris:20260414T133000
DTSTAMP:20260424T222959
CREATED:20260331T151438Z
LAST-MODIFIED:20260331T151438Z
UID:37610-1776159000-1776173400@www.camaraburgos.com
SUMMARY:CLAVES DE LA COMUNICACIÓN EN EL EMPRENDIMIENTO
DESCRIPTION:
URL:https://www.camaraburgos.com/event/claves-de-la-comunicacion-en-el-emprendimiento-3/
CATEGORIES:emprendimiento_icecyl2026
ATTACH;FMTTYPE=image/jpeg:https://www.camaraburgos.com/wp-content/uploads/2025/12/Emprendimiento-01-scaled.jpg
END:VEVENT
BEGIN:VEVENT
DTSTART;TZID=Europe/Paris:20260414T163000
DTEND;TZID=Europe/Paris:20260414T183000
DTSTAMP:20260424T222959
CREATED:20260323T105134Z
LAST-MODIFIED:20260323T105134Z
UID:37549-1776184200-1776191400@www.camaraburgos.com
SUMMARY:Taller para PYMES. CHATGPT Aplicado a la creación de contenido.
DESCRIPTION:
URL:https://www.camaraburgos.com/event/taller-para-pymes-chatgpt-aplicado-a-la-creacion-de-contenido/
CATEGORIES:innova_icecyl2026
ATTACH;FMTTYPE=image/jpeg:https://www.camaraburgos.com/wp-content/uploads/2026/01/Innova-01_nuevo-scaled.jpg
END:VEVENT
END:VCALENDAR