BEGIN:VCALENDAR
VERSION:2.0
PRODID:-//Cámara de Comercio de Burgos - ECPv6.15.20//NONSGML v1.0//EN
CALSCALE:GREGORIAN
METHOD:PUBLISH
X-ORIGINAL-URL:https://www.camaraburgos.com
X-WR-CALDESC:Eventos para Cámara de Comercio de Burgos
REFRESH-INTERVAL;VALUE=DURATION:PT1H
X-Robots-Tag:noindex
X-PUBLISHED-TTL:PT1H
BEGIN:VTIMEZONE
TZID:Europe/Paris
BEGIN:DAYLIGHT
TZOFFSETFROM:+0100
TZOFFSETTO:+0200
TZNAME:CEST
DTSTART:20240331T010000
END:DAYLIGHT
BEGIN:STANDARD
TZOFFSETFROM:+0200
TZOFFSETTO:+0100
TZNAME:CET
DTSTART:20241027T010000
END:STANDARD
BEGIN:DAYLIGHT
TZOFFSETFROM:+0100
TZOFFSETTO:+0200
TZNAME:CEST
DTSTART:20250330T010000
END:DAYLIGHT
BEGIN:STANDARD
TZOFFSETFROM:+0200
TZOFFSETTO:+0100
TZNAME:CET
DTSTART:20251026T010000
END:STANDARD
BEGIN:DAYLIGHT
TZOFFSETFROM:+0100
TZOFFSETTO:+0200
TZNAME:CEST
DTSTART:20260329T010000
END:DAYLIGHT
BEGIN:STANDARD
TZOFFSETFROM:+0200
TZOFFSETTO:+0100
TZNAME:CET
DTSTART:20261025T010000
END:STANDARD
END:VTIMEZONE
BEGIN:VEVENT
DTSTART;TZID=Europe/Paris:20250612T100000
DTEND;TZID=Europe/Paris:20250914T200000
DTSTAMP:20260424T190804
CREATED:20250804T092851Z
LAST-MODIFIED:20250915T115434Z
UID:28254-1749722400-1757880000@www.camaraburgos.com
SUMMARY:Curso online de formación de tutores de empresa
DESCRIPTION:
URL:https://www.camaraburgos.com/event/curso-online-de-formacion-de-tutores-de-empresa/
CATEGORIES:formacionEspecializada
ATTACH;FMTTYPE=image/jpeg:https://www.camaraburgos.com/wp-content/uploads/2025/08/FPoN_Curso2_1-2_1024.jpg
END:VEVENT
BEGIN:VEVENT
DTSTART;TZID=Europe/Paris:20250625T093000
DTEND;TZID=Europe/Paris:20250625T233000
DTSTAMP:20260424T190804
CREATED:20250827T113338Z
LAST-MODIFIED:20250827T113416Z
UID:35861-1750843800-1750894200@www.camaraburgos.com
SUMMARY:Copywriting y Kit Digital: cómo escribir textos que vendan y emocionen con herramientas de IA
DESCRIPTION:FECHA y HORA \n\n\n\n\n\n\n\n\n\n\n\n\n\n\n\n\n\n\n\n\n\n\n\nMiércoles\, 25 de junio de 9:30 a 11:00 h._Webinar ZOOM (Formato Seminario Web) \n\n\n\n\n\n\n\n\n\n\n\n\n\n\n\n\n\n\n\n\n\n\n\n\n\n\n\n\n\n\n\n\n\n\n\nOBJETIVOS \n\n\n\n\n\n\n\n\n\n\n\n\n\n\n\n\n\n\n\n\n\n\n\n  \nWebinar enmarcado dentro de la categoría III (Gestión de redes sociales) y XI (Presencia avanzada en internet) del programa de ayudas del Kit Digital. \nEn un mundo saturado de contenido\, ya no basta con escribir bien\, hay que escribir con intención e impactar en las emociones de los clientes\, para que los contenidos sean diferenciales\, se visualicen en los canales apropiados\, y lleguen al «alma» del público objetivo que realmente nos interesa. \nEste webinar\, dirigido a pymes\, autónomos\, emprendedores\, y en general a cualquier profesional que necesite mejorar la forma en la que se comunica con sus clientes\, te ofrece una inmersión completa en el arte del Copywriting orientado a la venta de productos y/o servicios\, brindando habilidades esenciales para destacar en la creación de contenidos. \nDurante 90′\, descubrirás cómo funcionan las técnicas avanzadas de Copywriting\, y cómo influyen dichas técnicas en la toma de decisiones del consumidor\, apoyándote en el uso de herramientas de IA para escribir de forma más estratégica\, rápida y eficaz. \nAprenderás a utilizar la IA a tu favor\, sin perder la humanización de la marca a la hora de crear textos persuasivos\, así como a identificar deseos\, dolores y motivadores de compra\, utilizando técnicas de redacción adaptadas al entorno digital\, a la vez que creas textos que vendan sin parecer ventas. \nExploraremos\, además\, cómo introducirnos en la mente de tu consumidor\, estableciendo un tono de comunicación consistente que refleje la personalidad de la marca\, generando confianza y lealtad entre tus clientes. Recuerda que nos enfrentamos a un nuevo reto para los Copywriters\, y que en definitiva\, no se trata sólo de utilizar herramientas de IA en el proceso\, sino de saber que pedirles y cómo estructurar tus ideas\, creando un mensaje «emocional» que realmente impacte en tu perfil de cliente ideal. \n\n\n\n\n\n\n\nIMPARTE \n\n\n\n\n\n\nLeticia Rivera (Especialista en IA y Neuromarketing. Conferenciante y formadora de postgrado en escuelas de negocios)\n\n\n\n\n\n\n\n\n\n\n\n\n\n\n\n\n\n\n\n\n\n\n\n\n\n\nPROGRAMA \n\n\n\n\n\n\n\n\n\n\n\n\n\n\n\n\n\n\n\n\n\n\n\n\n\n\n\n1. Fundamentos del Copywriting persuasivo \n· El poder de las emociones y los sesgos cognitivos en la toma de decisiones \n· Técnicas de Neuromarketing \n2. Estructuras efectivas de redacción \n· Cómo construir titulares que atrapen la atención \n· Fórmulas para escribir textos web\, emails y redes sociales \n3. Conociendo al cliente ideal \n· Técnicas para identificar los verdaderos deseos y miedos del cliente ideal \n· Cómo adaptar tu mensaje según el tipo de cliente \n4. IA al servicio del Copywriting \n· Ejemplos de «prompts» efectivos y errores comunes \n· Casos prácticos de uso de la IA en textos reales \n  \n*Es una jornada ONLINE gratuita. Si quieres asistir\, debes inscribirte previamente. \n 
URL:https://www.camaraburgos.com/event/copywriting-y-kit-digital-como-escribir-textos-que-vendan-y-emocionen-con-herramientas-de-ia/
CATEGORIES:oap
ATTACH;FMTTYPE=image/jpeg:https://www.camaraburgos.com/wp-content/uploads/2025/02/Redes-CCT_3_Mesa-de-trabajo_Burgos.jpg
END:VEVENT
END:VCALENDAR